BEGIN:VCALENDAR
VERSION:2.0
PRODID:-//A Tiny House Resort - ECPv6.15.20//NONSGML v1.0//EN
CALSCALE:GREGORIAN
METHOD:PUBLISH
X-ORIGINAL-URL:http://atinyhouseresort.com
X-WR-CALDESC:Events for A Tiny House Resort
REFRESH-INTERVAL;VALUE=DURATION:PT1H
X-Robots-Tag:noindex
X-PUBLISHED-TTL:PT1H
BEGIN:VTIMEZONE
TZID:UTC
BEGIN:STANDARD
TZOFFSETFROM:+0000
TZOFFSETTO:+0000
TZNAME:UTC
DTSTART:20240101T000000
END:STANDARD
END:VTIMEZONE
BEGIN:VEVENT
DTSTART;TZID=UTC:20250915T100000
DTEND;TZID=UTC:20250915T170000
DTSTAMP:20260419T095911
CREATED:20250918T024728Z
LAST-MODIFIED:20250918T045654Z
UID:10032631-1757930400-1757955600@atinyhouseresort.com
SUMMARY:Kayaking + Tubing
DESCRIPTION:We require all Tubers + Kayakers to have proper\, closed toed water shoes. Sandals\, crocs\, old sneakers\, slides\, and flip flops are not water shoes. This does not have to do with the shoes being waterproof. It is about safety. \nAll tubers must be over age 1.  – Anyone under 18\, must be accompanied by someone over 18. \nALL kayakers must be 14+ and have proper closed toe water shoes. We only have single person kayaks. \nKayaking Sign Up \nCreek Tubing Sign Up
URL:http://atinyhouseresort.com/activity/kayaking-tubing/2025-09-15/
END:VEVENT
BEGIN:VEVENT
DTSTART;TZID=UTC:20250915T100000
DTEND;TZID=UTC:20250915T180000
DTSTAMP:20260419T095911
CREATED:20250918T023952Z
LAST-MODIFIED:20250918T023952Z
UID:10032602-1757930400-1757959200@atinyhouseresort.com
SUMMARY:Pool Hours
DESCRIPTION:Our Pool is still open!
URL:http://atinyhouseresort.com/activity/pool-hours/2025-09-15/
END:VEVENT
BEGIN:VEVENT
DTSTART;TZID=UTC:20250915T120000
DTEND;TZID=UTC:20250915T120000
DTSTAMP:20260419T095911
CREATED:20250918T022103Z
LAST-MODIFIED:20251021T194824Z
UID:10032505-1757937600-1757937600@atinyhouseresort.com
SUMMARY:Watercolors
DESCRIPTION:Simplified and easy watercolors! \nSign Up Here
URL:http://atinyhouseresort.com/activity/watercolors/2025-09-15/
END:VEVENT
BEGIN:VEVENT
DTSTART;TZID=UTC:20250915T153000
DTEND;TZID=UTC:20250915T153000
DTSTAMP:20260419T095911
CREATED:20250918T022338Z
LAST-MODIFIED:20251021T194945Z
UID:10032514-1757950200-1757950200@atinyhouseresort.com
SUMMARY:Mosaic Stone Art
DESCRIPTION:Create a couple toasting or fishing with stone\, glass and pen. \nSign Up Here
URL:http://atinyhouseresort.com/activity/mosaic-stone-art/2025-09-15/
END:VEVENT
BEGIN:VEVENT
DTSTART;TZID=UTC:20250915T163000
DTEND;TZID=UTC:20250915T163000
DTSTAMP:20260419T095911
CREATED:20250918T023328Z
LAST-MODIFIED:20251021T195017Z
UID:10032538-1757953800-1757953800@atinyhouseresort.com
SUMMARY:Stained Glass Sun Catchers
DESCRIPTION:Choose your shape and fill with colored glass to create a beautiful sun catcher \nSign Up Here \n 
URL:http://atinyhouseresort.com/activity/seasonal-sponge-painting/2025-09-15/
END:VEVENT
BEGIN:VEVENT
DTSTART;TZID=UTC:20250915T170000
DTEND;TZID=UTC:20250915T170000
DTSTAMP:20260419T095911
CREATED:20250918T023728Z
LAST-MODIFIED:20250918T023755Z
UID:10032546-1757955600-1757955600@atinyhouseresort.com
SUMMARY:Goat + Sheep Walk
DESCRIPTION:Get up close and personal with our super friendly goats and sheep! Learn all their names and even get to give them a treat on this fun walk! \nSign Up Here
URL:http://atinyhouseresort.com/activity/goat-sheep-walk/2025-09-15/
END:VEVENT
BEGIN:VEVENT
DTSTART;TZID=UTC:20250915T190000
DTEND;TZID=UTC:20250915T190000
DTSTAMP:20260419T095911
CREATED:20250918T025721Z
LAST-MODIFIED:20251020T162359Z
UID:10033995-1757962800-1757962800@atinyhouseresort.com
SUMMARY:Outdoor Movie
DESCRIPTION:Enjoy front row seats on our game lawn to watch a movie on our 200inch screen! Blankets provided! \nSee whats playing and sign up here
URL:http://atinyhouseresort.com/activity/outdoor-movie/2025-09-15/
END:VEVENT
BEGIN:VEVENT
DTSTART;TZID=UTC:20250916T100000
DTEND;TZID=UTC:20250916T170000
DTSTAMP:20260419T095911
CREATED:20250918T024728Z
LAST-MODIFIED:20250918T045654Z
UID:10032632-1758016800-1758042000@atinyhouseresort.com
SUMMARY:Kayaking + Tubing
DESCRIPTION:We require all Tubers + Kayakers to have proper\, closed toed water shoes. Sandals\, crocs\, old sneakers\, slides\, and flip flops are not water shoes. This does not have to do with the shoes being waterproof. It is about safety. \nAll tubers must be over age 1.  – Anyone under 18\, must be accompanied by someone over 18. \nALL kayakers must be 14+ and have proper closed toe water shoes. We only have single person kayaks. \nKayaking Sign Up \nCreek Tubing Sign Up
URL:http://atinyhouseresort.com/activity/kayaking-tubing/2025-09-16/
END:VEVENT
BEGIN:VEVENT
DTSTART;TZID=UTC:20250916T100000
DTEND;TZID=UTC:20250916T180000
DTSTAMP:20260419T095911
CREATED:20250918T023952Z
LAST-MODIFIED:20250918T023952Z
UID:10032603-1758016800-1758045600@atinyhouseresort.com
SUMMARY:Pool Hours
DESCRIPTION:Our Pool is still open!
URL:http://atinyhouseresort.com/activity/pool-hours/2025-09-16/
END:VEVENT
BEGIN:VEVENT
DTSTART;TZID=UTC:20250916T120000
DTEND;TZID=UTC:20250916T120000
DTSTAMP:20260419T095911
CREATED:20250918T025002Z
LAST-MODIFIED:20250918T235009Z
UID:10032660-1758024000-1758024000@atinyhouseresort.com
SUMMARY:Tiny Trays
DESCRIPTION:Create adorable mini trays! \nSign Up Here
URL:http://atinyhouseresort.com/activity/tiny-trays/2025-09-16/
END:VEVENT
BEGIN:VEVENT
DTSTART;TZID=UTC:20250916T153000
DTEND;TZID=UTC:20250916T153000
DTSTAMP:20260419T095911
CREATED:20250918T025157Z
LAST-MODIFIED:20251021T202634Z
UID:10032668-1758036600-1758036600@atinyhouseresort.com
SUMMARY:Sea Glass Animals
DESCRIPTION:Choose a wooden cut out and use sea glass and colored glass to create a unique piece! \nSign Up Here
URL:http://atinyhouseresort.com/activity/sea-glass-animals/2025-09-16/
END:VEVENT
BEGIN:VEVENT
DTSTART;TZID=UTC:20250916T163000
DTEND;TZID=UTC:20250916T163000
DTSTAMP:20260419T095911
CREATED:20250918T025327Z
LAST-MODIFIED:20250918T235311Z
UID:10032676-1758040200-1758040200@atinyhouseresort.com
SUMMARY:Candle Making
DESCRIPTION:2oz Candle for each guest with optional paid upgrades to larger vessels from $10-$25. \nSign Up Here
URL:http://atinyhouseresort.com/activity/candle-making/2025-09-16/
END:VEVENT
BEGIN:VEVENT
DTSTART;TZID=UTC:20250916T170000
DTEND;TZID=UTC:20250916T170000
DTSTAMP:20260419T095911
CREATED:20250918T023728Z
LAST-MODIFIED:20250918T023755Z
UID:10032547-1758042000-1758042000@atinyhouseresort.com
SUMMARY:Goat + Sheep Walk
DESCRIPTION:Get up close and personal with our super friendly goats and sheep! Learn all their names and even get to give them a treat on this fun walk! \nSign Up Here
URL:http://atinyhouseresort.com/activity/goat-sheep-walk/2025-09-16/
END:VEVENT
BEGIN:VEVENT
DTSTART;TZID=UTC:20250917T100000
DTEND;TZID=UTC:20250917T170000
DTSTAMP:20260419T095911
CREATED:20250918T024728Z
LAST-MODIFIED:20250918T045654Z
UID:10032633-1758103200-1758128400@atinyhouseresort.com
SUMMARY:Kayaking + Tubing
DESCRIPTION:We require all Tubers + Kayakers to have proper\, closed toed water shoes. Sandals\, crocs\, old sneakers\, slides\, and flip flops are not water shoes. This does not have to do with the shoes being waterproof. It is about safety. \nAll tubers must be over age 1.  – Anyone under 18\, must be accompanied by someone over 18. \nALL kayakers must be 14+ and have proper closed toe water shoes. We only have single person kayaks. \nKayaking Sign Up \nCreek Tubing Sign Up
URL:http://atinyhouseresort.com/activity/kayaking-tubing/2025-09-17/
END:VEVENT
BEGIN:VEVENT
DTSTART;TZID=UTC:20250917T100000
DTEND;TZID=UTC:20250917T180000
DTSTAMP:20260419T095911
CREATED:20250918T023952Z
LAST-MODIFIED:20250918T023952Z
UID:10032604-1758103200-1758132000@atinyhouseresort.com
SUMMARY:Pool Hours
DESCRIPTION:Our Pool is still open!
URL:http://atinyhouseresort.com/activity/pool-hours/2025-09-17/
END:VEVENT
BEGIN:VEVENT
DTSTART;TZID=UTC:20250917T120000
DTEND;TZID=UTC:20250917T120000
DTSTAMP:20260419T095911
CREATED:20250918T030952Z
LAST-MODIFIED:20250918T205344Z
UID:10032716-1758110400-1758110400@atinyhouseresort.com
SUMMARY:Sea Glass Wind Chimes
DESCRIPTION:Join us to create a beautiful windchime from sea glass and other natural materials! – Build 1 windchime for each family! \nSign Up Here
URL:http://atinyhouseresort.com/activity/sea-glass-wind-chimes/2025-09-17/
END:VEVENT
BEGIN:VEVENT
DTSTART;TZID=UTC:20250917T153000
DTEND;TZID=UTC:20250917T153000
DTSTAMP:20260419T095911
CREATED:20250918T031144Z
LAST-MODIFIED:20250918T235732Z
UID:10032725-1758123000-1758123000@atinyhouseresort.com
SUMMARY:Bead Bar
DESCRIPTION:Join us to create your own bracelets from our wide variety of beads! \nSign Up Here
URL:http://atinyhouseresort.com/activity/bead-bar/2025-09-17/
END:VEVENT
BEGIN:VEVENT
DTSTART;TZID=UTC:20250917T163000
DTEND;TZID=UTC:20250917T163000
DTSTAMP:20260419T095911
CREATED:20250918T032104Z
LAST-MODIFIED:20251011T161323Z
UID:10032733-1758126600-1758126600@atinyhouseresort.com
SUMMARY:Multi Media Ceramic Mosaics
DESCRIPTION:Create a framed design using stone\, ceramics\, glass\, paint and more. \nSign Up Here
URL:http://atinyhouseresort.com/activity/mini-ceramic-mosaics/2025-09-17/
END:VEVENT
BEGIN:VEVENT
DTSTART;TZID=UTC:20250917T170000
DTEND;TZID=UTC:20250917T170000
DTSTAMP:20260419T095911
CREATED:20250918T023728Z
LAST-MODIFIED:20250918T023755Z
UID:10032548-1758128400-1758128400@atinyhouseresort.com
SUMMARY:Goat + Sheep Walk
DESCRIPTION:Get up close and personal with our super friendly goats and sheep! Learn all their names and even get to give them a treat on this fun walk! \nSign Up Here
URL:http://atinyhouseresort.com/activity/goat-sheep-walk/2025-09-17/
END:VEVENT
BEGIN:VEVENT
DTSTART;TZID=UTC:20250917T170000
DTEND;TZID=UTC:20250917T200000
DTSTAMP:20260419T095911
CREATED:20250918T012630Z
LAST-MODIFIED:20251025T151903Z
UID:10033845-1758128400-1758139200@atinyhouseresort.com
SUMMARY:Maker's Studio ($)
DESCRIPTION:Open Studio time where you can pay to do whatever project you would like. \nSign Up Here \nMaker’s Studio Pricing \n\n\n\nCraft\nIncluded Studio time\nCost\n\n\nBookmark Making\n1 hr\n$25 for 1st – $5 each additional\n\n\nWatercolor\n1 hr\n$25 for 1st – $5 each additional\n\n\nCollage\n1hr\n$30\n\n\nTile Art\n1 hr\n$30 for 1st – $10 each additional\n\n\nBottle Cap Art\n1 hr\n$30\n\n\nCustom Trays\n1.5 hr\n$50-$150\n\n\n3D Flower Art\n1 hr\n$30\n\n\nSign Making\n1 hr\n$35 + size upgrades\n\n\nSea Glass Art\n1 hr\n$50-$150\n\n\nCandle Making\n1 hr\n$25 + vessel costs\n\n\nBead Bar\n1 hr\n$30 for 1st– $10 each additional\n\n\nPendants + Key Chains\n1 hr\n$30 for 1st – $10 each additional\n\n\nDecoupage\n1 hr\n$30\n\n\nAcrylic Paints\n1 hr\n$25\n\n\nFlow Art\n1 hr\n$40 for 1st – $15 each additional\n\n\nTea Bag Painting\n1 hr\n$25 for 1st – $1 each additional\n\n\nMosaics\n2 hrs\n$50-$150\n\n\nBroken China Pendants\n1 hr\n$50 for 1st – $25 each additional\n\n\nStain Glass Sun Catchers\n2 hrs\n$50-$150\n\n\nPrivate Paint + Sip\n1-2hrs\n$50-$90\n\n\nAdditional Studio hours\nX\n$25/hr\n\n\nMaker’s Studio Fee\nX\nActivities Included Free \nA La Carte $40\n\n\n\n  \n**Please note\, Scheduled classes are included with any activities included reservations and it is your decision on which you attend. You can attend as many as you would like. This time is great for those who would like a smaller or more personalized expereince\, want to work on a larger project\, or do an activity that isn’t scheduled during your stay. You are NOT able to use maker’s studio time to “make up” for scheduled classes you may of chosen not to attend.  \n 
URL:http://atinyhouseresort.com/activity/makers-studio/2025-09-17/
END:VEVENT
BEGIN:VEVENT
DTSTART;TZID=UTC:20250917T190000
DTEND;TZID=UTC:20250917T190000
DTSTAMP:20260419T095911
CREATED:20250918T025721Z
LAST-MODIFIED:20251020T162359Z
UID:10033996-1758135600-1758135600@atinyhouseresort.com
SUMMARY:Outdoor Movie
DESCRIPTION:Enjoy front row seats on our game lawn to watch a movie on our 200inch screen! Blankets provided! \nSee whats playing and sign up here
URL:http://atinyhouseresort.com/activity/outdoor-movie/2025-09-17/
END:VEVENT
BEGIN:VEVENT
DTSTART;TZID=UTC:20250918T100000
DTEND;TZID=UTC:20250918T170000
DTSTAMP:20260419T095911
CREATED:20250918T024728Z
LAST-MODIFIED:20250918T045654Z
UID:10032634-1758189600-1758214800@atinyhouseresort.com
SUMMARY:Kayaking + Tubing
DESCRIPTION:We require all Tubers + Kayakers to have proper\, closed toed water shoes. Sandals\, crocs\, old sneakers\, slides\, and flip flops are not water shoes. This does not have to do with the shoes being waterproof. It is about safety. \nAll tubers must be over age 1.  – Anyone under 18\, must be accompanied by someone over 18. \nALL kayakers must be 14+ and have proper closed toe water shoes. We only have single person kayaks. \nKayaking Sign Up \nCreek Tubing Sign Up
URL:http://atinyhouseresort.com/activity/kayaking-tubing/2025-09-18/
END:VEVENT
BEGIN:VEVENT
DTSTART;TZID=UTC:20250918T100000
DTEND;TZID=UTC:20250918T180000
DTSTAMP:20260419T095911
CREATED:20250918T023952Z
LAST-MODIFIED:20250918T023952Z
UID:10032605-1758189600-1758218400@atinyhouseresort.com
SUMMARY:Pool Hours
DESCRIPTION:Our Pool is still open!
URL:http://atinyhouseresort.com/activity/pool-hours/2025-09-18/
END:VEVENT
BEGIN:VEVENT
DTSTART;TZID=UTC:20250918T120000
DTEND;TZID=UTC:20250918T120000
DTSTAMP:20260419T095911
CREATED:20250918T032353Z
LAST-MODIFIED:20250919T000233Z
UID:10032741-1758196800-1758196800@atinyhouseresort.com
SUMMARY:Sea Glass Birds
DESCRIPTION:Use sea glass\, corks\, paint and other natural materials to create a cool scene. \nSign Up Here
URL:http://atinyhouseresort.com/activity/sea-glass-birds/2025-09-18/
END:VEVENT
BEGIN:VEVENT
DTSTART;TZID=UTC:20250918T153000
DTEND;TZID=UTC:20250918T153000
DTSTAMP:20260419T095911
CREATED:20250918T032626Z
LAST-MODIFIED:20250918T032626Z
UID:10032749-1758209400-1758209400@atinyhouseresort.com
SUMMARY:Pendants
DESCRIPTION:Select your pendant and fill it will stained glass. We will heat them up to set everything into place to create an amazing pendant! \nSign Up Here
URL:http://atinyhouseresort.com/activity/pendants/2025-09-18/
END:VEVENT
BEGIN:VEVENT
DTSTART;TZID=UTC:20250918T163000
DTEND;TZID=UTC:20250918T163000
DTSTAMP:20260419T095911
CREATED:20250918T032855Z
LAST-MODIFIED:20250918T032917Z
UID:10032757-1758213000-1758213000@atinyhouseresort.com
SUMMARY:Tile Art
DESCRIPTION:Flow art to create a unique tile – no 2 are the same! \nSign Up Here
URL:http://atinyhouseresort.com/activity/tile-art/2025-09-18/
END:VEVENT
BEGIN:VEVENT
DTSTART;TZID=UTC:20250918T170000
DTEND;TZID=UTC:20250918T170000
DTSTAMP:20260419T095911
CREATED:20250918T023728Z
LAST-MODIFIED:20250918T023755Z
UID:10032549-1758214800-1758214800@atinyhouseresort.com
SUMMARY:Goat + Sheep Walk
DESCRIPTION:Get up close and personal with our super friendly goats and sheep! Learn all their names and even get to give them a treat on this fun walk! \nSign Up Here
URL:http://atinyhouseresort.com/activity/goat-sheep-walk/2025-09-18/
END:VEVENT
BEGIN:VEVENT
DTSTART;TZID=UTC:20250918T170000
DTEND;TZID=UTC:20250918T200000
DTSTAMP:20260419T095911
CREATED:20250918T012630Z
LAST-MODIFIED:20251025T151903Z
UID:10033846-1758214800-1758225600@atinyhouseresort.com
SUMMARY:Maker's Studio ($)
DESCRIPTION:Open Studio time where you can pay to do whatever project you would like. \nSign Up Here \nMaker’s Studio Pricing \n\n\n\nCraft\nIncluded Studio time\nCost\n\n\nBookmark Making\n1 hr\n$25 for 1st – $5 each additional\n\n\nWatercolor\n1 hr\n$25 for 1st – $5 each additional\n\n\nCollage\n1hr\n$30\n\n\nTile Art\n1 hr\n$30 for 1st – $10 each additional\n\n\nBottle Cap Art\n1 hr\n$30\n\n\nCustom Trays\n1.5 hr\n$50-$150\n\n\n3D Flower Art\n1 hr\n$30\n\n\nSign Making\n1 hr\n$35 + size upgrades\n\n\nSea Glass Art\n1 hr\n$50-$150\n\n\nCandle Making\n1 hr\n$25 + vessel costs\n\n\nBead Bar\n1 hr\n$30 for 1st– $10 each additional\n\n\nPendants + Key Chains\n1 hr\n$30 for 1st – $10 each additional\n\n\nDecoupage\n1 hr\n$30\n\n\nAcrylic Paints\n1 hr\n$25\n\n\nFlow Art\n1 hr\n$40 for 1st – $15 each additional\n\n\nTea Bag Painting\n1 hr\n$25 for 1st – $1 each additional\n\n\nMosaics\n2 hrs\n$50-$150\n\n\nBroken China Pendants\n1 hr\n$50 for 1st – $25 each additional\n\n\nStain Glass Sun Catchers\n2 hrs\n$50-$150\n\n\nPrivate Paint + Sip\n1-2hrs\n$50-$90\n\n\nAdditional Studio hours\nX\n$25/hr\n\n\nMaker’s Studio Fee\nX\nActivities Included Free \nA La Carte $40\n\n\n\n  \n**Please note\, Scheduled classes are included with any activities included reservations and it is your decision on which you attend. You can attend as many as you would like. This time is great for those who would like a smaller or more personalized expereince\, want to work on a larger project\, or do an activity that isn’t scheduled during your stay. You are NOT able to use maker’s studio time to “make up” for scheduled classes you may of chosen not to attend.  \n 
URL:http://atinyhouseresort.com/activity/makers-studio/2025-09-18/
END:VEVENT
BEGIN:VEVENT
DTSTART;TZID=UTC:20250919T100000
DTEND;TZID=UTC:20250919T170000
DTSTAMP:20260419T095911
CREATED:20250918T024728Z
LAST-MODIFIED:20250918T045654Z
UID:10032635-1758276000-1758301200@atinyhouseresort.com
SUMMARY:Kayaking + Tubing
DESCRIPTION:We require all Tubers + Kayakers to have proper\, closed toed water shoes. Sandals\, crocs\, old sneakers\, slides\, and flip flops are not water shoes. This does not have to do with the shoes being waterproof. It is about safety. \nAll tubers must be over age 1.  – Anyone under 18\, must be accompanied by someone over 18. \nALL kayakers must be 14+ and have proper closed toe water shoes. We only have single person kayaks. \nKayaking Sign Up \nCreek Tubing Sign Up
URL:http://atinyhouseresort.com/activity/kayaking-tubing/2025-09-19/
END:VEVENT
BEGIN:VEVENT
DTSTART;TZID=UTC:20250919T100000
DTEND;TZID=UTC:20250919T180000
DTSTAMP:20260419T095911
CREATED:20250918T023952Z
LAST-MODIFIED:20250918T023952Z
UID:10032606-1758276000-1758304800@atinyhouseresort.com
SUMMARY:Pool Hours
DESCRIPTION:Our Pool is still open!
URL:http://atinyhouseresort.com/activity/pool-hours/2025-09-19/
END:VEVENT
END:VCALENDAR