BEGIN:VCALENDAR
VERSION:2.0
PRODID:-//A Tiny House Resort - ECPv6.15.20//NONSGML v1.0//EN
CALSCALE:GREGORIAN
METHOD:PUBLISH
X-WR-CALNAME:A Tiny House Resort
X-ORIGINAL-URL:https://atinyhouseresort.com
X-WR-CALDESC:Events for A Tiny House Resort
REFRESH-INTERVAL;VALUE=DURATION:PT1H
X-Robots-Tag:noindex
X-PUBLISHED-TTL:PT1H
BEGIN:VTIMEZONE
TZID:America/New_York
BEGIN:DAYLIGHT
TZOFFSETFROM:-0500
TZOFFSETTO:-0400
TZNAME:EDT
DTSTART:20250309T070000
END:DAYLIGHT
BEGIN:STANDARD
TZOFFSETFROM:-0400
TZOFFSETTO:-0500
TZNAME:EST
DTSTART:20251102T060000
END:STANDARD
BEGIN:DAYLIGHT
TZOFFSETFROM:-0500
TZOFFSETTO:-0400
TZNAME:EDT
DTSTART:20260308T070000
END:DAYLIGHT
BEGIN:STANDARD
TZOFFSETFROM:-0400
TZOFFSETTO:-0500
TZNAME:EST
DTSTART:20261101T060000
END:STANDARD
BEGIN:DAYLIGHT
TZOFFSETFROM:-0500
TZOFFSETTO:-0400
TZNAME:EDT
DTSTART:20270314T070000
END:DAYLIGHT
BEGIN:STANDARD
TZOFFSETFROM:-0400
TZOFFSETTO:-0500
TZNAME:EST
DTSTART:20271107T060000
END:STANDARD
END:VTIMEZONE
BEGIN:VEVENT
DTSTART;TZID=America/New_York:20260515T200000
DTEND;TZID=America/New_York:20260515T200000
DTSTAMP:20260421T042142
CREATED:20260220T222107Z
LAST-MODIFIED:20260303T161828Z
UID:10035990-1778875200-1778875200@atinyhouseresort.com
SUMMARY:Ourdoor Movie
DESCRIPTION:Join us for an outdoor movie on our 200in screen! \nSEE WHATS PLAYING + SIGN UP HERE *TF* \nNon-Resort Guests sign up HERE
URL:https://atinyhouseresort.com/activity/ourdoor-movie/2026-05-15/
END:VEVENT
BEGIN:VEVENT
DTSTART;TZID=America/New_York:20260516T200000
DTEND;TZID=America/New_York:20260516T200000
DTSTAMP:20260421T042142
CREATED:20260220T222107Z
LAST-MODIFIED:20260303T161828Z
UID:10035991-1778961600-1778961600@atinyhouseresort.com
SUMMARY:Ourdoor Movie
DESCRIPTION:Join us for an outdoor movie on our 200in screen! \nSEE WHATS PLAYING + SIGN UP HERE *TF* \nNon-Resort Guests sign up HERE
URL:https://atinyhouseresort.com/activity/ourdoor-movie/2026-05-16/
END:VEVENT
BEGIN:VEVENT
DTSTART;TZID=America/New_York:20260518T200000
DTEND;TZID=America/New_York:20260518T200000
DTSTAMP:20260421T042142
CREATED:20260220T222107Z
LAST-MODIFIED:20260303T161828Z
UID:10035992-1779134400-1779134400@atinyhouseresort.com
SUMMARY:Ourdoor Movie
DESCRIPTION:Join us for an outdoor movie on our 200in screen! \nSEE WHATS PLAYING + SIGN UP HERE *TF* \nNon-Resort Guests sign up HERE
URL:https://atinyhouseresort.com/activity/ourdoor-movie/2026-05-18/
END:VEVENT
BEGIN:VEVENT
DTSTART;TZID=America/New_York:20260520T200000
DTEND;TZID=America/New_York:20260520T200000
DTSTAMP:20260421T042142
CREATED:20260220T222107Z
LAST-MODIFIED:20260303T161828Z
UID:10035993-1779307200-1779307200@atinyhouseresort.com
SUMMARY:Ourdoor Movie
DESCRIPTION:Join us for an outdoor movie on our 200in screen! \nSEE WHATS PLAYING + SIGN UP HERE *TF* \nNon-Resort Guests sign up HERE
URL:https://atinyhouseresort.com/activity/ourdoor-movie/2026-05-20/
END:VEVENT
BEGIN:VEVENT
DTSTART;TZID=America/New_York:20260522T200000
DTEND;TZID=America/New_York:20260522T200000
DTSTAMP:20260421T042142
CREATED:20260220T222107Z
LAST-MODIFIED:20260303T161828Z
UID:10035994-1779480000-1779480000@atinyhouseresort.com
SUMMARY:Ourdoor Movie
DESCRIPTION:Join us for an outdoor movie on our 200in screen! \nSEE WHATS PLAYING + SIGN UP HERE *TF* \nNon-Resort Guests sign up HERE
URL:https://atinyhouseresort.com/activity/ourdoor-movie/2026-05-22/
END:VEVENT
BEGIN:VEVENT
DTSTART;TZID=America/New_York:20260523T200000
DTEND;TZID=America/New_York:20260523T200000
DTSTAMP:20260421T042142
CREATED:20260220T222107Z
LAST-MODIFIED:20260303T161828Z
UID:10035995-1779566400-1779566400@atinyhouseresort.com
SUMMARY:Ourdoor Movie
DESCRIPTION:Join us for an outdoor movie on our 200in screen! \nSEE WHATS PLAYING + SIGN UP HERE *TF* \nNon-Resort Guests sign up HERE
URL:https://atinyhouseresort.com/activity/ourdoor-movie/2026-05-23/
END:VEVENT
BEGIN:VEVENT
DTSTART;TZID=America/New_York:20260525T200000
DTEND;TZID=America/New_York:20260525T200000
DTSTAMP:20260421T042142
CREATED:20260220T222107Z
LAST-MODIFIED:20260303T161828Z
UID:10035996-1779739200-1779739200@atinyhouseresort.com
SUMMARY:Ourdoor Movie
DESCRIPTION:Join us for an outdoor movie on our 200in screen! \nSEE WHATS PLAYING + SIGN UP HERE *TF* \nNon-Resort Guests sign up HERE
URL:https://atinyhouseresort.com/activity/ourdoor-movie/2026-05-25/
END:VEVENT
BEGIN:VEVENT
DTSTART;TZID=America/New_York:20260527T200000
DTEND;TZID=America/New_York:20260527T200000
DTSTAMP:20260421T042142
CREATED:20260220T222107Z
LAST-MODIFIED:20260303T161828Z
UID:10035997-1779912000-1779912000@atinyhouseresort.com
SUMMARY:Ourdoor Movie
DESCRIPTION:Join us for an outdoor movie on our 200in screen! \nSEE WHATS PLAYING + SIGN UP HERE *TF* \nNon-Resort Guests sign up HERE
URL:https://atinyhouseresort.com/activity/ourdoor-movie/2026-05-27/
END:VEVENT
BEGIN:VEVENT
DTSTART;TZID=America/New_York:20260529T200000
DTEND;TZID=America/New_York:20260529T200000
DTSTAMP:20260421T042142
CREATED:20260220T222107Z
LAST-MODIFIED:20260303T161828Z
UID:10035998-1780084800-1780084800@atinyhouseresort.com
SUMMARY:Ourdoor Movie
DESCRIPTION:Join us for an outdoor movie on our 200in screen! \nSEE WHATS PLAYING + SIGN UP HERE *TF* \nNon-Resort Guests sign up HERE
URL:https://atinyhouseresort.com/activity/ourdoor-movie/2026-05-29/
END:VEVENT
BEGIN:VEVENT
DTSTART;TZID=America/New_York:20260530T200000
DTEND;TZID=America/New_York:20260530T200000
DTSTAMP:20260421T042142
CREATED:20260220T222107Z
LAST-MODIFIED:20260303T161828Z
UID:10035999-1780171200-1780171200@atinyhouseresort.com
SUMMARY:Ourdoor Movie
DESCRIPTION:Join us for an outdoor movie on our 200in screen! \nSEE WHATS PLAYING + SIGN UP HERE *TF* \nNon-Resort Guests sign up HERE
URL:https://atinyhouseresort.com/activity/ourdoor-movie/2026-05-30/
END:VEVENT
BEGIN:VEVENT
DTSTART;TZID=America/New_York:20260601T200000
DTEND;TZID=America/New_York:20260601T200000
DTSTAMP:20260421T042142
CREATED:20260220T222107Z
LAST-MODIFIED:20260303T161828Z
UID:10036000-1780344000-1780344000@atinyhouseresort.com
SUMMARY:Ourdoor Movie
DESCRIPTION:Join us for an outdoor movie on our 200in screen! \nSEE WHATS PLAYING + SIGN UP HERE *TF* \nNon-Resort Guests sign up HERE
URL:https://atinyhouseresort.com/activity/ourdoor-movie/2026-06-01/
END:VEVENT
BEGIN:VEVENT
DTSTART;TZID=America/New_York:20260603T200000
DTEND;TZID=America/New_York:20260603T200000
DTSTAMP:20260421T042142
CREATED:20260220T222107Z
LAST-MODIFIED:20260303T161828Z
UID:10036001-1780516800-1780516800@atinyhouseresort.com
SUMMARY:Ourdoor Movie
DESCRIPTION:Join us for an outdoor movie on our 200in screen! \nSEE WHATS PLAYING + SIGN UP HERE *TF* \nNon-Resort Guests sign up HERE
URL:https://atinyhouseresort.com/activity/ourdoor-movie/2026-06-03/
END:VEVENT
BEGIN:VEVENT
DTSTART;TZID=America/New_York:20260605T200000
DTEND;TZID=America/New_York:20260605T200000
DTSTAMP:20260421T042142
CREATED:20260220T222107Z
LAST-MODIFIED:20260303T161828Z
UID:10036002-1780689600-1780689600@atinyhouseresort.com
SUMMARY:Ourdoor Movie
DESCRIPTION:Join us for an outdoor movie on our 200in screen! \nSEE WHATS PLAYING + SIGN UP HERE *TF* \nNon-Resort Guests sign up HERE
URL:https://atinyhouseresort.com/activity/ourdoor-movie/2026-06-05/
END:VEVENT
BEGIN:VEVENT
DTSTART;TZID=America/New_York:20260606T200000
DTEND;TZID=America/New_York:20260606T200000
DTSTAMP:20260421T042142
CREATED:20260220T222107Z
LAST-MODIFIED:20260303T161828Z
UID:10036003-1780776000-1780776000@atinyhouseresort.com
SUMMARY:Ourdoor Movie
DESCRIPTION:Join us for an outdoor movie on our 200in screen! \nSEE WHATS PLAYING + SIGN UP HERE *TF* \nNon-Resort Guests sign up HERE
URL:https://atinyhouseresort.com/activity/ourdoor-movie/2026-06-06/
END:VEVENT
BEGIN:VEVENT
DTSTART;TZID=America/New_York:20260608T200000
DTEND;TZID=America/New_York:20260608T200000
DTSTAMP:20260421T042142
CREATED:20260220T222107Z
LAST-MODIFIED:20260303T161828Z
UID:10036004-1780948800-1780948800@atinyhouseresort.com
SUMMARY:Ourdoor Movie
DESCRIPTION:Join us for an outdoor movie on our 200in screen! \nSEE WHATS PLAYING + SIGN UP HERE *TF* \nNon-Resort Guests sign up HERE
URL:https://atinyhouseresort.com/activity/ourdoor-movie/2026-06-08/
END:VEVENT
BEGIN:VEVENT
DTSTART;TZID=America/New_York:20260610T200000
DTEND;TZID=America/New_York:20260610T200000
DTSTAMP:20260421T042142
CREATED:20260220T222107Z
LAST-MODIFIED:20260303T161828Z
UID:10036005-1781121600-1781121600@atinyhouseresort.com
SUMMARY:Ourdoor Movie
DESCRIPTION:Join us for an outdoor movie on our 200in screen! \nSEE WHATS PLAYING + SIGN UP HERE *TF* \nNon-Resort Guests sign up HERE
URL:https://atinyhouseresort.com/activity/ourdoor-movie/2026-06-10/
END:VEVENT
BEGIN:VEVENT
DTSTART;TZID=America/New_York:20260612T200000
DTEND;TZID=America/New_York:20260612T200000
DTSTAMP:20260421T042142
CREATED:20260220T222107Z
LAST-MODIFIED:20260303T161828Z
UID:10036006-1781294400-1781294400@atinyhouseresort.com
SUMMARY:Ourdoor Movie
DESCRIPTION:Join us for an outdoor movie on our 200in screen! \nSEE WHATS PLAYING + SIGN UP HERE *TF* \nNon-Resort Guests sign up HERE
URL:https://atinyhouseresort.com/activity/ourdoor-movie/2026-06-12/
END:VEVENT
BEGIN:VEVENT
DTSTART;TZID=America/New_York:20260613T200000
DTEND;TZID=America/New_York:20260613T200000
DTSTAMP:20260421T042142
CREATED:20260220T222107Z
LAST-MODIFIED:20260303T161828Z
UID:10036007-1781380800-1781380800@atinyhouseresort.com
SUMMARY:Ourdoor Movie
DESCRIPTION:Join us for an outdoor movie on our 200in screen! \nSEE WHATS PLAYING + SIGN UP HERE *TF* \nNon-Resort Guests sign up HERE
URL:https://atinyhouseresort.com/activity/ourdoor-movie/2026-06-13/
END:VEVENT
BEGIN:VEVENT
DTSTART;TZID=America/New_York:20260615T200000
DTEND;TZID=America/New_York:20260615T200000
DTSTAMP:20260421T042142
CREATED:20260220T222107Z
LAST-MODIFIED:20260303T161828Z
UID:10036008-1781553600-1781553600@atinyhouseresort.com
SUMMARY:Ourdoor Movie
DESCRIPTION:Join us for an outdoor movie on our 200in screen! \nSEE WHATS PLAYING + SIGN UP HERE *TF* \nNon-Resort Guests sign up HERE
URL:https://atinyhouseresort.com/activity/ourdoor-movie/2026-06-15/
END:VEVENT
BEGIN:VEVENT
DTSTART;TZID=America/New_York:20260617T200000
DTEND;TZID=America/New_York:20260617T200000
DTSTAMP:20260421T042142
CREATED:20260220T222107Z
LAST-MODIFIED:20260303T161828Z
UID:10036009-1781726400-1781726400@atinyhouseresort.com
SUMMARY:Ourdoor Movie
DESCRIPTION:Join us for an outdoor movie on our 200in screen! \nSEE WHATS PLAYING + SIGN UP HERE *TF* \nNon-Resort Guests sign up HERE
URL:https://atinyhouseresort.com/activity/ourdoor-movie/2026-06-17/
END:VEVENT
BEGIN:VEVENT
DTSTART;TZID=America/New_York:20260619T200000
DTEND;TZID=America/New_York:20260619T200000
DTSTAMP:20260421T042142
CREATED:20260220T222107Z
LAST-MODIFIED:20260303T161828Z
UID:10036010-1781899200-1781899200@atinyhouseresort.com
SUMMARY:Ourdoor Movie
DESCRIPTION:Join us for an outdoor movie on our 200in screen! \nSEE WHATS PLAYING + SIGN UP HERE *TF* \nNon-Resort Guests sign up HERE
URL:https://atinyhouseresort.com/activity/ourdoor-movie/2026-06-19/
END:VEVENT
BEGIN:VEVENT
DTSTART;TZID=America/New_York:20260620T200000
DTEND;TZID=America/New_York:20260620T200000
DTSTAMP:20260421T042142
CREATED:20260220T222107Z
LAST-MODIFIED:20260303T161828Z
UID:10036011-1781985600-1781985600@atinyhouseresort.com
SUMMARY:Ourdoor Movie
DESCRIPTION:Join us for an outdoor movie on our 200in screen! \nSEE WHATS PLAYING + SIGN UP HERE *TF* \nNon-Resort Guests sign up HERE
URL:https://atinyhouseresort.com/activity/ourdoor-movie/2026-06-20/
END:VEVENT
BEGIN:VEVENT
DTSTART;TZID=America/New_York:20260622T200000
DTEND;TZID=America/New_York:20260622T200000
DTSTAMP:20260421T042142
CREATED:20260220T222107Z
LAST-MODIFIED:20260303T161828Z
UID:10036012-1782158400-1782158400@atinyhouseresort.com
SUMMARY:Ourdoor Movie
DESCRIPTION:Join us for an outdoor movie on our 200in screen! \nSEE WHATS PLAYING + SIGN UP HERE *TF* \nNon-Resort Guests sign up HERE
URL:https://atinyhouseresort.com/activity/ourdoor-movie/2026-06-22/
END:VEVENT
BEGIN:VEVENT
DTSTART;TZID=America/New_York:20260624T200000
DTEND;TZID=America/New_York:20260624T200000
DTSTAMP:20260421T042142
CREATED:20260220T222107Z
LAST-MODIFIED:20260303T161828Z
UID:10036013-1782331200-1782331200@atinyhouseresort.com
SUMMARY:Ourdoor Movie
DESCRIPTION:Join us for an outdoor movie on our 200in screen! \nSEE WHATS PLAYING + SIGN UP HERE *TF* \nNon-Resort Guests sign up HERE
URL:https://atinyhouseresort.com/activity/ourdoor-movie/2026-06-24/
END:VEVENT
BEGIN:VEVENT
DTSTART;TZID=America/New_York:20260626T200000
DTEND;TZID=America/New_York:20260626T200000
DTSTAMP:20260421T042142
CREATED:20260220T222107Z
LAST-MODIFIED:20260303T161828Z
UID:10036014-1782504000-1782504000@atinyhouseresort.com
SUMMARY:Ourdoor Movie
DESCRIPTION:Join us for an outdoor movie on our 200in screen! \nSEE WHATS PLAYING + SIGN UP HERE *TF* \nNon-Resort Guests sign up HERE
URL:https://atinyhouseresort.com/activity/ourdoor-movie/2026-06-26/
END:VEVENT
BEGIN:VEVENT
DTSTART;TZID=America/New_York:20260627T200000
DTEND;TZID=America/New_York:20260627T200000
DTSTAMP:20260421T042142
CREATED:20260220T222107Z
LAST-MODIFIED:20260303T161828Z
UID:10036015-1782590400-1782590400@atinyhouseresort.com
SUMMARY:Ourdoor Movie
DESCRIPTION:Join us for an outdoor movie on our 200in screen! \nSEE WHATS PLAYING + SIGN UP HERE *TF* \nNon-Resort Guests sign up HERE
URL:https://atinyhouseresort.com/activity/ourdoor-movie/2026-06-27/
END:VEVENT
BEGIN:VEVENT
DTSTART;TZID=America/New_York:20260629T200000
DTEND;TZID=America/New_York:20260629T200000
DTSTAMP:20260421T042142
CREATED:20260220T222107Z
LAST-MODIFIED:20260303T161828Z
UID:10036016-1782763200-1782763200@atinyhouseresort.com
SUMMARY:Ourdoor Movie
DESCRIPTION:Join us for an outdoor movie on our 200in screen! \nSEE WHATS PLAYING + SIGN UP HERE *TF* \nNon-Resort Guests sign up HERE
URL:https://atinyhouseresort.com/activity/ourdoor-movie/2026-06-29/
END:VEVENT
BEGIN:VEVENT
DTSTART;TZID=America/New_York:20260701T200000
DTEND;TZID=America/New_York:20260701T200000
DTSTAMP:20260421T042142
CREATED:20260220T222107Z
LAST-MODIFIED:20260303T161828Z
UID:10036017-1782936000-1782936000@atinyhouseresort.com
SUMMARY:Ourdoor Movie
DESCRIPTION:Join us for an outdoor movie on our 200in screen! \nSEE WHATS PLAYING + SIGN UP HERE *TF* \nNon-Resort Guests sign up HERE
URL:https://atinyhouseresort.com/activity/ourdoor-movie/2026-07-01/
END:VEVENT
BEGIN:VEVENT
DTSTART;TZID=America/New_York:20260703T200000
DTEND;TZID=America/New_York:20260703T200000
DTSTAMP:20260421T042142
CREATED:20260220T222107Z
LAST-MODIFIED:20260303T161828Z
UID:10036018-1783108800-1783108800@atinyhouseresort.com
SUMMARY:Ourdoor Movie
DESCRIPTION:Join us for an outdoor movie on our 200in screen! \nSEE WHATS PLAYING + SIGN UP HERE *TF* \nNon-Resort Guests sign up HERE
URL:https://atinyhouseresort.com/activity/ourdoor-movie/2026-07-03/
END:VEVENT
BEGIN:VEVENT
DTSTART;TZID=America/New_York:20260704T200000
DTEND;TZID=America/New_York:20260704T200000
DTSTAMP:20260421T042142
CREATED:20260220T222107Z
LAST-MODIFIED:20260303T161828Z
UID:10036019-1783195200-1783195200@atinyhouseresort.com
SUMMARY:Ourdoor Movie
DESCRIPTION:Join us for an outdoor movie on our 200in screen! \nSEE WHATS PLAYING + SIGN UP HERE *TF* \nNon-Resort Guests sign up HERE
URL:https://atinyhouseresort.com/activity/ourdoor-movie/2026-07-04/
END:VEVENT
END:VCALENDAR