BEGIN:VCALENDAR
VERSION:2.0
PRODID:-//A Tiny House Resort - ECPv6.15.20//NONSGML v1.0//EN
CALSCALE:GREGORIAN
METHOD:PUBLISH
X-WR-CALNAME:A Tiny House Resort
X-ORIGINAL-URL:https://atinyhouseresort.com
X-WR-CALDESC:Events for A Tiny House Resort
REFRESH-INTERVAL;VALUE=DURATION:PT1H
X-Robots-Tag:noindex
X-PUBLISHED-TTL:PT1H
BEGIN:VTIMEZONE
TZID:America/New_York
BEGIN:DAYLIGHT
TZOFFSETFROM:-0500
TZOFFSETTO:-0400
TZNAME:EDT
DTSTART:20250309T070000
END:DAYLIGHT
BEGIN:STANDARD
TZOFFSETFROM:-0400
TZOFFSETTO:-0500
TZNAME:EST
DTSTART:20251102T060000
END:STANDARD
BEGIN:DAYLIGHT
TZOFFSETFROM:-0500
TZOFFSETTO:-0400
TZNAME:EDT
DTSTART:20260308T070000
END:DAYLIGHT
BEGIN:STANDARD
TZOFFSETFROM:-0400
TZOFFSETTO:-0500
TZNAME:EST
DTSTART:20261101T060000
END:STANDARD
BEGIN:DAYLIGHT
TZOFFSETFROM:-0500
TZOFFSETTO:-0400
TZNAME:EDT
DTSTART:20270314T070000
END:DAYLIGHT
BEGIN:STANDARD
TZOFFSETFROM:-0400
TZOFFSETTO:-0500
TZNAME:EST
DTSTART:20271107T060000
END:STANDARD
END:VTIMEZONE
BEGIN:VEVENT
DTSTART;TZID=America/New_York:20260514T153000
DTEND;TZID=America/New_York:20260514T153000
DTSTAMP:20260421T100534
CREATED:20260303T165532Z
LAST-MODIFIED:20260303T165532Z
UID:10036486-1778772600-1778772600@atinyhouseresort.com
SUMMARY:CRAFT TBD
DESCRIPTION:We are planning a fun activity here! check back soon!
URL:https://atinyhouseresort.com/activity/craft-tbd-3/2026-05-14/
END:VEVENT
BEGIN:VEVENT
DTSTART;TZID=America/New_York:20260515T153000
DTEND;TZID=America/New_York:20260515T153000
DTSTAMP:20260421T100534
CREATED:20260303T165532Z
LAST-MODIFIED:20260303T165532Z
UID:10036487-1778859000-1778859000@atinyhouseresort.com
SUMMARY:CRAFT TBD
DESCRIPTION:We are planning a fun activity here! check back soon!
URL:https://atinyhouseresort.com/activity/craft-tbd-3/2026-05-15/
END:VEVENT
BEGIN:VEVENT
DTSTART;TZID=America/New_York:20260516T153000
DTEND;TZID=America/New_York:20260516T153000
DTSTAMP:20260421T100534
CREATED:20260303T165532Z
LAST-MODIFIED:20260303T165532Z
UID:10036488-1778945400-1778945400@atinyhouseresort.com
SUMMARY:CRAFT TBD
DESCRIPTION:We are planning a fun activity here! check back soon!
URL:https://atinyhouseresort.com/activity/craft-tbd-3/2026-05-16/
END:VEVENT
BEGIN:VEVENT
DTSTART;TZID=America/New_York:20260517T153000
DTEND;TZID=America/New_York:20260517T153000
DTSTAMP:20260421T100534
CREATED:20260303T165532Z
LAST-MODIFIED:20260303T165532Z
UID:10036489-1779031800-1779031800@atinyhouseresort.com
SUMMARY:CRAFT TBD
DESCRIPTION:We are planning a fun activity here! check back soon!
URL:https://atinyhouseresort.com/activity/craft-tbd-3/2026-05-17/
END:VEVENT
BEGIN:VEVENT
DTSTART;TZID=America/New_York:20260518T153000
DTEND;TZID=America/New_York:20260518T153000
DTSTAMP:20260421T100534
CREATED:20260303T165532Z
LAST-MODIFIED:20260303T165532Z
UID:10036490-1779118200-1779118200@atinyhouseresort.com
SUMMARY:CRAFT TBD
DESCRIPTION:We are planning a fun activity here! check back soon!
URL:https://atinyhouseresort.com/activity/craft-tbd-3/2026-05-18/
END:VEVENT
BEGIN:VEVENT
DTSTART;TZID=America/New_York:20260519T153000
DTEND;TZID=America/New_York:20260519T153000
DTSTAMP:20260421T100534
CREATED:20260303T165532Z
LAST-MODIFIED:20260303T165532Z
UID:10036491-1779204600-1779204600@atinyhouseresort.com
SUMMARY:CRAFT TBD
DESCRIPTION:We are planning a fun activity here! check back soon!
URL:https://atinyhouseresort.com/activity/craft-tbd-3/2026-05-19/
END:VEVENT
BEGIN:VEVENT
DTSTART;TZID=America/New_York:20260520T153000
DTEND;TZID=America/New_York:20260520T153000
DTSTAMP:20260421T100534
CREATED:20260303T165532Z
LAST-MODIFIED:20260303T165532Z
UID:10036492-1779291000-1779291000@atinyhouseresort.com
SUMMARY:CRAFT TBD
DESCRIPTION:We are planning a fun activity here! check back soon!
URL:https://atinyhouseresort.com/activity/craft-tbd-3/2026-05-20/
END:VEVENT
BEGIN:VEVENT
DTSTART;TZID=America/New_York:20260521T153000
DTEND;TZID=America/New_York:20260521T153000
DTSTAMP:20260421T100534
CREATED:20260303T165532Z
LAST-MODIFIED:20260303T165532Z
UID:10036493-1779377400-1779377400@atinyhouseresort.com
SUMMARY:CRAFT TBD
DESCRIPTION:We are planning a fun activity here! check back soon!
URL:https://atinyhouseresort.com/activity/craft-tbd-3/2026-05-21/
END:VEVENT
BEGIN:VEVENT
DTSTART;TZID=America/New_York:20260522T153000
DTEND;TZID=America/New_York:20260522T153000
DTSTAMP:20260421T100534
CREATED:20260303T165532Z
LAST-MODIFIED:20260303T165532Z
UID:10036494-1779463800-1779463800@atinyhouseresort.com
SUMMARY:CRAFT TBD
DESCRIPTION:We are planning a fun activity here! check back soon!
URL:https://atinyhouseresort.com/activity/craft-tbd-3/2026-05-22/
END:VEVENT
BEGIN:VEVENT
DTSTART;TZID=America/New_York:20260523T153000
DTEND;TZID=America/New_York:20260523T153000
DTSTAMP:20260421T100534
CREATED:20260303T165532Z
LAST-MODIFIED:20260303T165532Z
UID:10036495-1779550200-1779550200@atinyhouseresort.com
SUMMARY:CRAFT TBD
DESCRIPTION:We are planning a fun activity here! check back soon!
URL:https://atinyhouseresort.com/activity/craft-tbd-3/2026-05-23/
END:VEVENT
BEGIN:VEVENT
DTSTART;TZID=America/New_York:20260524T153000
DTEND;TZID=America/New_York:20260524T153000
DTSTAMP:20260421T100534
CREATED:20260303T165532Z
LAST-MODIFIED:20260303T165532Z
UID:10036496-1779636600-1779636600@atinyhouseresort.com
SUMMARY:CRAFT TBD
DESCRIPTION:We are planning a fun activity here! check back soon!
URL:https://atinyhouseresort.com/activity/craft-tbd-3/2026-05-24/
END:VEVENT
BEGIN:VEVENT
DTSTART;TZID=America/New_York:20260525T153000
DTEND;TZID=America/New_York:20260525T153000
DTSTAMP:20260421T100534
CREATED:20260303T165532Z
LAST-MODIFIED:20260303T165532Z
UID:10036497-1779723000-1779723000@atinyhouseresort.com
SUMMARY:CRAFT TBD
DESCRIPTION:We are planning a fun activity here! check back soon!
URL:https://atinyhouseresort.com/activity/craft-tbd-3/2026-05-25/
END:VEVENT
BEGIN:VEVENT
DTSTART;TZID=America/New_York:20260526T153000
DTEND;TZID=America/New_York:20260526T153000
DTSTAMP:20260421T100534
CREATED:20260303T165532Z
LAST-MODIFIED:20260303T165532Z
UID:10036498-1779809400-1779809400@atinyhouseresort.com
SUMMARY:CRAFT TBD
DESCRIPTION:We are planning a fun activity here! check back soon!
URL:https://atinyhouseresort.com/activity/craft-tbd-3/2026-05-26/
END:VEVENT
BEGIN:VEVENT
DTSTART;TZID=America/New_York:20260527T153000
DTEND;TZID=America/New_York:20260527T153000
DTSTAMP:20260421T100534
CREATED:20260303T165532Z
LAST-MODIFIED:20260303T165532Z
UID:10036499-1779895800-1779895800@atinyhouseresort.com
SUMMARY:CRAFT TBD
DESCRIPTION:We are planning a fun activity here! check back soon!
URL:https://atinyhouseresort.com/activity/craft-tbd-3/2026-05-27/
END:VEVENT
BEGIN:VEVENT
DTSTART;TZID=America/New_York:20260528T153000
DTEND;TZID=America/New_York:20260528T153000
DTSTAMP:20260421T100534
CREATED:20260303T165532Z
LAST-MODIFIED:20260303T165532Z
UID:10036500-1779982200-1779982200@atinyhouseresort.com
SUMMARY:CRAFT TBD
DESCRIPTION:We are planning a fun activity here! check back soon!
URL:https://atinyhouseresort.com/activity/craft-tbd-3/2026-05-28/
END:VEVENT
BEGIN:VEVENT
DTSTART;TZID=America/New_York:20260529T153000
DTEND;TZID=America/New_York:20260529T153000
DTSTAMP:20260421T100534
CREATED:20260303T165532Z
LAST-MODIFIED:20260303T165532Z
UID:10036501-1780068600-1780068600@atinyhouseresort.com
SUMMARY:CRAFT TBD
DESCRIPTION:We are planning a fun activity here! check back soon!
URL:https://atinyhouseresort.com/activity/craft-tbd-3/2026-05-29/
END:VEVENT
BEGIN:VEVENT
DTSTART;TZID=America/New_York:20260530T153000
DTEND;TZID=America/New_York:20260530T153000
DTSTAMP:20260421T100534
CREATED:20260303T165532Z
LAST-MODIFIED:20260303T165532Z
UID:10036502-1780155000-1780155000@atinyhouseresort.com
SUMMARY:CRAFT TBD
DESCRIPTION:We are planning a fun activity here! check back soon!
URL:https://atinyhouseresort.com/activity/craft-tbd-3/2026-05-30/
END:VEVENT
BEGIN:VEVENT
DTSTART;TZID=America/New_York:20260531T153000
DTEND;TZID=America/New_York:20260531T153000
DTSTAMP:20260421T100534
CREATED:20260303T165532Z
LAST-MODIFIED:20260303T165532Z
UID:10036503-1780241400-1780241400@atinyhouseresort.com
SUMMARY:CRAFT TBD
DESCRIPTION:We are planning a fun activity here! check back soon!
URL:https://atinyhouseresort.com/activity/craft-tbd-3/2026-05-31/
END:VEVENT
BEGIN:VEVENT
DTSTART;TZID=America/New_York:20260601T153000
DTEND;TZID=America/New_York:20260601T153000
DTSTAMP:20260421T100534
CREATED:20260303T165532Z
LAST-MODIFIED:20260303T165532Z
UID:10036504-1780327800-1780327800@atinyhouseresort.com
SUMMARY:CRAFT TBD
DESCRIPTION:We are planning a fun activity here! check back soon!
URL:https://atinyhouseresort.com/activity/craft-tbd-3/2026-06-01/
END:VEVENT
BEGIN:VEVENT
DTSTART;TZID=America/New_York:20260602T153000
DTEND;TZID=America/New_York:20260602T153000
DTSTAMP:20260421T100534
CREATED:20260303T165532Z
LAST-MODIFIED:20260303T165532Z
UID:10036505-1780414200-1780414200@atinyhouseresort.com
SUMMARY:CRAFT TBD
DESCRIPTION:We are planning a fun activity here! check back soon!
URL:https://atinyhouseresort.com/activity/craft-tbd-3/2026-06-02/
END:VEVENT
BEGIN:VEVENT
DTSTART;TZID=America/New_York:20260603T153000
DTEND;TZID=America/New_York:20260603T153000
DTSTAMP:20260421T100534
CREATED:20260303T165532Z
LAST-MODIFIED:20260303T165532Z
UID:10036506-1780500600-1780500600@atinyhouseresort.com
SUMMARY:CRAFT TBD
DESCRIPTION:We are planning a fun activity here! check back soon!
URL:https://atinyhouseresort.com/activity/craft-tbd-3/2026-06-03/
END:VEVENT
BEGIN:VEVENT
DTSTART;TZID=America/New_York:20260604T153000
DTEND;TZID=America/New_York:20260604T153000
DTSTAMP:20260421T100534
CREATED:20260303T165532Z
LAST-MODIFIED:20260303T165532Z
UID:10036507-1780587000-1780587000@atinyhouseresort.com
SUMMARY:CRAFT TBD
DESCRIPTION:We are planning a fun activity here! check back soon!
URL:https://atinyhouseresort.com/activity/craft-tbd-3/2026-06-04/
END:VEVENT
BEGIN:VEVENT
DTSTART;TZID=America/New_York:20260605T153000
DTEND;TZID=America/New_York:20260605T153000
DTSTAMP:20260421T100534
CREATED:20260303T165532Z
LAST-MODIFIED:20260303T165532Z
UID:10036508-1780673400-1780673400@atinyhouseresort.com
SUMMARY:CRAFT TBD
DESCRIPTION:We are planning a fun activity here! check back soon!
URL:https://atinyhouseresort.com/activity/craft-tbd-3/2026-06-05/
END:VEVENT
BEGIN:VEVENT
DTSTART;TZID=America/New_York:20260606T153000
DTEND;TZID=America/New_York:20260606T153000
DTSTAMP:20260421T100534
CREATED:20260303T165532Z
LAST-MODIFIED:20260303T165532Z
UID:10036509-1780759800-1780759800@atinyhouseresort.com
SUMMARY:CRAFT TBD
DESCRIPTION:We are planning a fun activity here! check back soon!
URL:https://atinyhouseresort.com/activity/craft-tbd-3/2026-06-06/
END:VEVENT
BEGIN:VEVENT
DTSTART;TZID=America/New_York:20260607T153000
DTEND;TZID=America/New_York:20260607T153000
DTSTAMP:20260421T100534
CREATED:20260303T165532Z
LAST-MODIFIED:20260303T165532Z
UID:10036510-1780846200-1780846200@atinyhouseresort.com
SUMMARY:CRAFT TBD
DESCRIPTION:We are planning a fun activity here! check back soon!
URL:https://atinyhouseresort.com/activity/craft-tbd-3/2026-06-07/
END:VEVENT
BEGIN:VEVENT
DTSTART;TZID=America/New_York:20260608T153000
DTEND;TZID=America/New_York:20260608T153000
DTSTAMP:20260421T100534
CREATED:20260303T165532Z
LAST-MODIFIED:20260303T165532Z
UID:10036511-1780932600-1780932600@atinyhouseresort.com
SUMMARY:CRAFT TBD
DESCRIPTION:We are planning a fun activity here! check back soon!
URL:https://atinyhouseresort.com/activity/craft-tbd-3/2026-06-08/
END:VEVENT
BEGIN:VEVENT
DTSTART;TZID=America/New_York:20260609T153000
DTEND;TZID=America/New_York:20260609T153000
DTSTAMP:20260421T100534
CREATED:20260303T165532Z
LAST-MODIFIED:20260303T165532Z
UID:10036512-1781019000-1781019000@atinyhouseresort.com
SUMMARY:CRAFT TBD
DESCRIPTION:We are planning a fun activity here! check back soon!
URL:https://atinyhouseresort.com/activity/craft-tbd-3/2026-06-09/
END:VEVENT
BEGIN:VEVENT
DTSTART;TZID=America/New_York:20260610T153000
DTEND;TZID=America/New_York:20260610T153000
DTSTAMP:20260421T100534
CREATED:20260303T165532Z
LAST-MODIFIED:20260303T165532Z
UID:10036513-1781105400-1781105400@atinyhouseresort.com
SUMMARY:CRAFT TBD
DESCRIPTION:We are planning a fun activity here! check back soon!
URL:https://atinyhouseresort.com/activity/craft-tbd-3/2026-06-10/
END:VEVENT
BEGIN:VEVENT
DTSTART;TZID=America/New_York:20260611T153000
DTEND;TZID=America/New_York:20260611T153000
DTSTAMP:20260421T100534
CREATED:20260303T165532Z
LAST-MODIFIED:20260303T165532Z
UID:10036514-1781191800-1781191800@atinyhouseresort.com
SUMMARY:CRAFT TBD
DESCRIPTION:We are planning a fun activity here! check back soon!
URL:https://atinyhouseresort.com/activity/craft-tbd-3/2026-06-11/
END:VEVENT
BEGIN:VEVENT
DTSTART;TZID=America/New_York:20260612T153000
DTEND;TZID=America/New_York:20260612T153000
DTSTAMP:20260421T100534
CREATED:20260303T165532Z
LAST-MODIFIED:20260303T165532Z
UID:10036515-1781278200-1781278200@atinyhouseresort.com
SUMMARY:CRAFT TBD
DESCRIPTION:We are planning a fun activity here! check back soon!
URL:https://atinyhouseresort.com/activity/craft-tbd-3/2026-06-12/
END:VEVENT
END:VCALENDAR